BEGIN:VCALENDAR
PRODID:-//eluceo/ical//2.0/EN
VERSION:2.0
CALSCALE:GREGORIAN
BEGIN:VEVENT
UID:48aa6246ac414b6b924d7890cb313f1f
DTSTAMP:20260423T233041Z
SUMMARY:RED LETTER: Hot Buzz About Books
DESCRIPTION:Jewish Federation of Greater Hartford\nCommunity Calendar\nhttp
 s://jewishhartford.org/community-calendar/red-letter-hot-buzz-about-books-
 1688606687\n\nJoin us for this annual fall tradition! Staff from RJ Julia 
 Booksellers and special guests will give us the scoop on some greate reads
 \, just in time for the holidays.
DTSTART;TZID=America/New_York:20231129T190000
DTEND;TZID=America/New_York:20231129T210000
END:VEVENT
END:VCALENDAR
