BEGIN:VCALENDAR
PRODID:-//eluceo/ical//2.0/EN
VERSION:2.0
CALSCALE:GREGORIAN
BEGIN:VEVENT
UID:636db878418fdf0c5d0ccdd4354862ae
DTSTAMP:20260426T030151Z
SUMMARY:RED LETTER: DUELING PIANOS FUNDRAISER "LET'S RAISE THE ROOF"
DESCRIPTION:Jewish Federation of Greater Hartford\nCommunity Calendar\nhttp
 s://jewishhartford.org/community-calendar/red-letter-dueling-pianos-fundra
 iser-lets-raise-the-roof-1696370042\n\nSaturday evening\, November 4th. 7:
 00 PM   "Dueling Pianos" returns to Congregation Kol Haverim!  \n\nDoors o
 pen at 6:30PM            Must be 21 & over to attend\n\nOur Synagogue need
 s a new roof...let's raise the money & raise the roof with this fabulous\,
  fun-filled sing along! \nTickets are on sale now for what is sure to be a
  terrific night of all-request music\, with desserts and drinks on Saturda
 y\, November 4th.  \n\nSilent Auction items available
DTSTART;TZID=America/New_York:20231104T190000
DTEND;TZID=America/New_York:20231104T210000
END:VEVENT
END:VCALENDAR
