BEGIN:VCALENDAR
PRODID:-//eluceo/ical//2.0/EN
VERSION:2.0
CALSCALE:GREGORIAN
BEGIN:VEVENT
UID:d58d4c23740dcfff82e2f96a0146040d
DTSTAMP:20260424T092511Z
SUMMARY:RED LETTER: Distinguished Service Award Banquet
DESCRIPTION:Jewish Federation of Greater Hartford\nCommunity Calendar\nhttp
 s://jewishhartford.org/community-calendar/red-letter-distinguished-service
 -award-banquet-1676395936\n\nThe Beth El Temple Men&#39\;s Club cordially 
 invites you to attend our Distinguished Service Award Banquet honoring Jud
 ith & David Rosenthal for their many years of devoted service to Beth El T
 emple\, The Men&#39\;s Club and the Community.\n\nDetails at https://tinyu
 rl.com/BETDSA2023.
DTSTART;TZID=America/New_York:20231022T173000
DTEND;TZID=America/New_York:20231022T203000
END:VEVENT
END:VCALENDAR
