BEGIN:VCALENDAR
PRODID:-//eluceo/ical//2.0/EN
VERSION:2.0
CALSCALE:GREGORIAN
BEGIN:VEVENT
UID:aedffa8168ecc43ca6d363709f0d4d41
DTSTAMP:20260421T113345Z
SUMMARY:RED LETTER: 12th Annual JFS Combating Hunger Event
DESCRIPTION:Jewish Federation of Greater Hartford\nCommunity Calendar\nhttp
 s://jewishhartford.org/community-calendar/red-letter-12th-annual-jfs-comba
 ting-hunger-event-1725564737\n\nThis event will elevate the challenges tha
 t families in our community are experiencing putting food on the table. It
  raises funds to support the Anja Rosenberg Kosher Food Pantry. Your suppo
 rt allows JFS to continue to serve families of all backgrounds\, providing
  healthy\, culturally appropriate food and special household items when th
 ey need it the most.\n\nFor tickets\, visit: https://givebutter.com/jfshun
 ger\n\nFor sponsorship opportunities\, please contact Laura Maltz Rozza at
  Lrozza@jfshart...
DTSTART;TZID=America/New_York:20241114T173000
DTEND;TZID=America/New_York:20241114T193000
END:VEVENT
END:VCALENDAR
