BEGIN:VCALENDAR
PRODID:-//eluceo/ical//2.0/EN
VERSION:2.0
CALSCALE:GREGORIAN
BEGIN:VEVENT
UID:6caa5b8edaea13e054d7ab416e3dca3b
DTSTAMP:20260424T215447Z
SUMMARY:RED LETTER: 11th Annual Event to Combat Hunger
DESCRIPTION:Jewish Federation of Greater Hartford\nCommunity Calendar\nhttp
 s://jewishhartford.org/community-calendar/red-letter-11th-annual-event-to-
 combat-hunger-1684181264\n\nThis event will elevate the challenges that fa
 milies in our community are\nexperiencing putting food on the table and wi
 ll raise funds to support the\nAnja Rosenberg Kosher Food Pantry. Support 
 of this event allows JFS to\ncontinue to serve families of all backgrounds
 \, providing healthy\, culturally\nappropriate food and special household 
 items when they need it the\nmost.
DTSTART;TZID=America/New_York:20231116T173000
DTEND;TZID=America/New_York:20231116T193000
END:VEVENT
END:VCALENDAR
