BEGIN:VCALENDAR
PRODID:-//eluceo/ical//2.0/EN
VERSION:2.0
CALSCALE:GREGORIAN
BEGIN:VEVENT
UID:9f57cf2e34d4a7d29cac51acf6d7147d
DTSTAMP:20260421T103702Z
SUMMARY:RED LETTER:  Comedian and Author\, Joel Chasnoff\, Comes to Connect
 icut!
DESCRIPTION:Jewish Federation of Greater Hartford\nCommunity Calendar\nhttp
 s://jewishhartford.org/community-calendar/red-letter--comedian-and-author-
 joel-chasnoff-comes-to-connecticut-1705700762\n\nJoin us for a night of cl
 ever stand-up comedy with Joel Chasnoff!\n\nRefreshments and Book Signing 
 Following the program
DTSTART;TZID=America/New_York:20240316T193000
DTEND;TZID=America/New_York:20240316T220000
END:VEVENT
END:VCALENDAR
