BEGIN:VCALENDAR
PRODID:-//eluceo/ical//2.0/EN
VERSION:2.0
CALSCALE:GREGORIAN
BEGIN:VEVENT
UID:7f015e64130e98d8f6dd164ea22aba06
DTSTAMP:20260421T125209Z
SUMMARY:Potluck and Shabbat
DESCRIPTION:Jewish Federation of Greater Hartford\nCommunity Calendar\nhttp
 s://jewishhartford.org/community-calendar/potluck-and-shabbat-1707492705\n
 \nShabbat Services and potluck dinner to be held at Gishrei Shalom.
DTSTART;TZID=America/New_York:20240308T190000
DTEND;TZID=America/New_York:20240308T210000
END:VEVENT
END:VCALENDAR
