BEGIN:VCALENDAR
PRODID:-//eluceo/ical//2.0/EN
VERSION:2.0
CALSCALE:GREGORIAN
BEGIN:VEVENT
UID:894f16a4b6769e1dd9d9228486c0011b
DTSTAMP:20260425T195643Z
SUMMARY:Piano Recital with Michael Cherry
DESCRIPTION:Jewish Federation of Greater Hartford\nCommunity Calendar\nhttp
 s://jewishhartford.org/community-calendar/piano-recital-with-michael-cherr
 y-1689692823\n\nCantor Joseph Ness presents New York pianist Michael Cherr
 y\, who will share his love of Classical and Israeli music\, along with so
 loists from our community.\n\nFor over 45 years now\, Mr.Cherry has been a
  committed collaborator with the art of Dance and one of the most resource
 ful and sought after pianists in the world of classical ballet. A prolific
  class and rehearsal piano accompanist with various world renowned dance i
 nstitutions including The American Ballet Theatre\, Dance Theater of Harl.
 ..
DTSTART;TZID=America/New_York:20230820T170000
DTEND;TZID=America/New_York:20230820T190000
END:VEVENT
END:VCALENDAR
