BEGIN:VCALENDAR
PRODID:-//eluceo/ical//2.0/EN
VERSION:2.0
CALSCALE:GREGORIAN
BEGIN:VEVENT
UID:4c1f511d44abd9c0737257027aba5e74
DTSTAMP:20260421T202258Z
SUMMARY:Phyllis Hoffman Hartford Jewish Film Festival
DESCRIPTION:Jewish Federation of Greater Hartford\nCommunity Calendar\nhttp
 s://jewishhartford.org/community-calendar/phyllis-hoffman-hartford-jewish-
 film-festival-1686945566\n\nPhyllis Hoffman Hartford Jewish Film Festival 
 Spring Finale. Details TBD.
DTSTART;TZID=America/New_York:20240303T150000
DTEND;TZID=America/New_York:20240303T170000
END:VEVENT
END:VCALENDAR
