BEGIN:VCALENDAR
PRODID:-//eluceo/ical//2.0/EN
VERSION:2.0
CALSCALE:GREGORIAN
BEGIN:VEVENT
UID:642125dbce1214bc7bfa5ed27adaaf42
DTSTAMP:20260421T103825Z
SUMMARY:Phyllis Hoffman Hartford Jewish Film Festival
DESCRIPTION:Jewish Federation of Greater Hartford\nCommunity Calendar\nhttp
 s://jewishhartford.org/community-calendar/phyllis-hoffman-hartford-jewish-
 film-festival-1686945481\n\nPhyllis Hoffman Hartford Jewish Film Festival 
 Spring Finale. Details TBD.
DTSTART;TZID=America/New_York:20240229T190000
DTEND;TZID=America/New_York:20240229T210000
END:VEVENT
END:VCALENDAR
