BEGIN:VCALENDAR
PRODID:-//eluceo/ical//2.0/EN
VERSION:2.0
CALSCALE:GREGORIAN
BEGIN:VEVENT
UID:2b228a394ddd314e4c43327ec2950000
DTSTAMP:20260422T195108Z
SUMMARY:Phyllis Hoffman Hartford Jewish Film Festival
DESCRIPTION:Jewish Federation of Greater Hartford\nCommunity Calendar\nhttp
 s://jewishhartford.org/community-calendar/phyllis-hoffman-hartford-jewish-
 film-festival-1686945267\n\nPhyllis Hoffman Hartford Jewish Film Festival 
 February films. All details subject to change.
DTSTART;TZID=America/New_York:20240218T150000
DTEND;TZID=America/New_York:20240218T170000
END:VEVENT
END:VCALENDAR
