BEGIN:VCALENDAR
PRODID:-//eluceo/ical//2.0/EN
VERSION:2.0
CALSCALE:GREGORIAN
BEGIN:VEVENT
UID:d5cf9c93026d57381f8780603d31408d
DTSTAMP:20260422T001313Z
SUMMARY:Phyllis Hoffman Hartford Jewish Film Festival
DESCRIPTION:Jewish Federation of Greater Hartford\nCommunity Calendar\nhttp
 s://jewishhartford.org/community-calendar/phyllis-hoffman-hartford-jewish-
 film-festival-1686945159\n\nPhyllis Hoffman Hartford Jewish Film Festival 
 Febrary films. \n\nThe film\, "Queen of the Deuce\,” will be shown at 
 the Real Art Ways Cinema\, 56 Arbor St\, Hartford
DTSTART;TZID=America/New_York:20240217T190000
DTEND;TZID=America/New_York:20240217T210000
END:VEVENT
END:VCALENDAR
