BEGIN:VCALENDAR
PRODID:-//eluceo/ical//2.0/EN
VERSION:2.0
CALSCALE:GREGORIAN
BEGIN:VEVENT
UID:80e4783f012eb55484a4d654cb10c89d
DTSTAMP:20260422T195113Z
SUMMARY:Phyllis Hoffman Hartford Jewish Film Festival
DESCRIPTION:Jewish Federation of Greater Hartford\nCommunity Calendar\nhttp
 s://jewishhartford.org/community-calendar/phyllis-hoffman-hartford-jewish-
 film-festival-1686944880\n\nPhyllis Hoffman Hartford Jewish Film Festival 
 January films. All details subject to change.
DTSTART;TZID=America/New_York:20240120T190000
DTEND;TZID=America/New_York:20240120T210000
END:VEVENT
END:VCALENDAR
