BEGIN:VCALENDAR
PRODID:-//eluceo/ical//2.0/EN
VERSION:2.0
CALSCALE:GREGORIAN
BEGIN:VEVENT
UID:c6c9c60c020351b6b516f56aac38e5cf
DTSTAMP:20260426T020708Z
SUMMARY:Phyllis Hoffman Hartford Jewish Film Festival
DESCRIPTION:Jewish Federation of Greater Hartford\nCommunity Calendar\nhttp
 s://jewishhartford.org/community-calendar/phyllis-hoffman-hartford-jewish-
 film-festival-1686944784\n\nPhyllis Hoffman Hartford Jewish Film Festival 
 December films. All details subject to change.
DTSTART;TZID=America/New_York:20231217T150000
DTEND;TZID=America/New_York:20231217T170000
END:VEVENT
END:VCALENDAR
