BEGIN:VCALENDAR
PRODID:-//eluceo/ical//2.0/EN
VERSION:2.0
CALSCALE:GREGORIAN
BEGIN:VEVENT
UID:59f5b986b6df625354215bc56349655a
DTSTAMP:20260426T034901Z
SUMMARY:Phyllis Hoffman Hartford Jewish Film Festival
DESCRIPTION:Jewish Federation of Greater Hartford\nCommunity Calendar\nhttp
 s://jewishhartford.org/community-calendar/phyllis-hoffman-hartford-jewish-
 film-festival-1686944687\n\nPhyllis Hoffman Hartford Jewish Film Festival 
 December films. All details subject to change.
DTSTART;TZID=America/New_York:20231216T190000
DTEND;TZID=America/New_York:20231216T210000
END:VEVENT
END:VCALENDAR
