BEGIN:VCALENDAR
PRODID:-//eluceo/ical//2.0/EN
VERSION:2.0
CALSCALE:GREGORIAN
BEGIN:VEVENT
UID:6f58b6943e4131a57e3ddbd68ca88e48
DTSTAMP:20260426T034856Z
SUMMARY:Phyllis Hoffman Hartford Jewish Film Festival
DESCRIPTION:Jewish Federation of Greater Hartford\nCommunity Calendar\nhttp
 s://jewishhartford.org/community-calendar/phyllis-hoffman-hartford-jewish-
 film-festival-1686944576\n\nPhyllis Hoffman Hartford Jewish Film Festival 
 November films. All details subject to change.
DTSTART;TZID=America/New_York:20231112T150000
DTEND;TZID=America/New_York:20231112T170000
END:VEVENT
END:VCALENDAR
