BEGIN:VCALENDAR
PRODID:-//eluceo/ical//2.0/EN
VERSION:2.0
CALSCALE:GREGORIAN
BEGIN:VEVENT
UID:8c925e01eb9f1e1d2fd54f23db5fda84
DTSTAMP:20260426T020712Z
SUMMARY:Phyllis Hoffman Hartford Jewish Film Festival
DESCRIPTION:Jewish Federation of Greater Hartford\nCommunity Calendar\nhttp
 s://jewishhartford.org/community-calendar/phyllis-hoffman-hartford-jewish-
 film-festival-1686944476\n\nPhyllis Hoffman Hartford Jewish Film Festival 
 November films
DTSTART;TZID=America/New_York:20231111T190000
DTEND;TZID=America/New_York:20231111T210000
END:VEVENT
END:VCALENDAR
