BEGIN:VCALENDAR
PRODID:-//eluceo/ical//2.0/EN
VERSION:2.0
CALSCALE:GREGORIAN
BEGIN:VEVENT
UID:48789146d7a8378b53b87f3923b91e8a
DTSTAMP:20260420T023154Z
SUMMARY:PASC Program Subcommittee Meeting
DESCRIPTION:Jewish Federation of Greater Hartford\nCommunity Calendar\nhttp
 s://jewishhartford.org/community-calendar/pasc-program-subcommittee-meetin
 g\n\nPASC Program Subcommittee Meeting
DTSTART;TZID=America/New_York:20240529T193000
DTEND;TZID=America/New_York:20240529T210000
END:VEVENT
END:VCALENDAR
