BEGIN:VCALENDAR
PRODID:-//eluceo/ical//2.0/EN
VERSION:2.0
CALSCALE:GREGORIAN
BEGIN:VEVENT
UID:184846734e219d709bf467e58c9ccd11
DTSTAMP:20260422T131316Z
SUMMARY:PASC Meeting
DESCRIPTION:Jewish Federation of Greater Hartford\nCommunity Calendar\nhttp
 s://jewishhartford.org/community-calendar/pasc-meeting-fy25kickoff\n\nFede
 ration Planning and Allocations Steering Committee Meeting
DTSTART;TZID=America/New_York:20240212T170000
DTEND;TZID=America/New_York:20240212T183000
END:VEVENT
END:VCALENDAR
