BEGIN:VCALENDAR
PRODID:-//eluceo/ical//2.0/EN
VERSION:2.0
CALSCALE:GREGORIAN
BEGIN:VEVENT
UID:32ff9d91c34d929d0ec4ab6fea087d89
DTSTAMP:20260424T031339Z
SUMMARY:Panel Discussion: Israelis in Greater Hartford
DESCRIPTION:Jewish Federation of Greater Hartford\nCommunity Calendar\nhttp
 s://jewishhartford.org/community-calendar/panel-discussion-israelis-in-gre
 ater-hartford-1698353255\n\nIn conjunction with our exhibition\, “Hartfo
 rd-Israel Connections Over 125 Years\,” this panel will share reflection
 s from Rivka Dvorin\, Ronny Siegel\, and Noeet Bachar about their experien
 ces moving from Israel to the Hartford area\, and the connections with the
  broader community. \n\nFree\, registration required.
DTSTART;TZID=America/New_York:20231113T193000
DTEND;TZID=America/New_York:20231113T203000
END:VEVENT
END:VCALENDAR
