BEGIN:VCALENDAR
PRODID:-//eluceo/ical//2.0/EN
VERSION:2.0
CALSCALE:GREGORIAN
BEGIN:VEVENT
UID:1e5bc5f6ea2bac7c398632804ce57c9f
DTSTAMP:20260423T215805Z
SUMMARY:Organ Sounds Concert featuring Alexander Straus-Fausto
DESCRIPTION:Jewish Federation of Greater Hartford\nCommunity Calendar\nhttp
 s://jewishhartford.org/community-calendar/organ-sounds-concert-featuring-a
 lexander-straus-fausto-1695749285\n\nJoin us in celebrating the 90th birth
 day of Congregation Beth Israel&#39\;s historic Austin organ. This is the 
 first concert of the 2023-2024 season celebrating this special anniversary
 . Alexander Straus-Fausto\, organist\, will be our guest performer. This e
 vent is free and open to the public. For the program and more information 
 about this wonderful musician and our organ\, visit cbict.org/music.
DTSTART;TZID=America/New_York:20230929T184500
DTEND;TZID=America/New_York:20230929T193000
END:VEVENT
END:VCALENDAR
