BEGIN:VCALENDAR
PRODID:-//eluceo/ical//2.0/EN
VERSION:2.0
CALSCALE:GREGORIAN
BEGIN:VEVENT
UID:90862975469573b3e61464831113bfd5
DTSTAMP:20260424T140743Z
SUMMARY:New England Jewish Academy Annual Gala
DESCRIPTION:Jewish Federation of Greater Hartford\nCommunity Calendar\nhttp
 s://jewishhartford.org/community-calendar/new-england-jewish-academy-annua
 l-gala-1701195728\n\nNew England Jewish Academy Annual Gala- Stay Tune For
  More Details!
DTSTART;TZID=America/New_York:20240305T170000
DTEND;TZID=America/New_York:20240305T210000
END:VEVENT
END:VCALENDAR
