BEGIN:VCALENDAR
PRODID:-//eluceo/ical//2.0/EN
VERSION:2.0
CALSCALE:GREGORIAN
BEGIN:VEVENT
UID:d195d146fdd81a924b4fe066d77082aa
DTSTAMP:20260424T053034Z
SUMMARY:National Women's Philanthropy Board Chair Iris Kraemer dessert rece
 ption
DESCRIPTION:Jewish Federation of Greater Hartford\nCommunity Calendar\nhttp
 s://jewishhartford.org/community-calendar/national-womens-philanthropy-boa
 rd-chair-iris-kraemer-dessert-reception-1693237004\n\nIris Kraemer\, Natio
 nal Women&#39\;s Philanthropy Board Chair will be visiting our Community o
 n October 5th. We are having a dessert reception for our Lions and Pomegra
 nates to meet her. Carolyn Gitlin will also be speaking and coordinating h
 er visit.
DTSTART;TZID=America/New_York:20231005T190000
DTEND;TZID=America/New_York:20231005T210000
END:VEVENT
END:VCALENDAR
