BEGIN:VCALENDAR
PRODID:-//eluceo/ical//2.0/EN
VERSION:2.0
CALSCALE:GREGORIAN
BEGIN:VEVENT
UID:7156c20393db399371c85aea5e5538aa
DTSTAMP:20260424T181319Z
SUMMARY:Murder in Manchuria: A True Story\, with Scott Seligman
DESCRIPTION:Jewish Federation of Greater Hartford\nCommunity Calendar\nhttp
 s://jewishhartford.org/community-calendar/murder-in-manchuria-a-true-story
 -with-scott-seligman-1701446691\n\nIn Murder in Manchuria\, Scott D. Selig
 man explores an unsolved murder set amid the chaos that reigned in China i
 n the run-up to World War II. Part cold-case thriller and part social hist
 ory\, the true\, tragic saga of Kaspé is told in the context of the large
 r\, improbable story of the lives of the twenty thousand Jews who called H
 arbin home at the beginning of the twentieth century. Scott D. Seligman re
 counts the events that led to their arrival and their hasty exodus—and s
 olves a crime that...
DTSTART;TZID=America/New_York:20240104T190000
DTEND;TZID=America/New_York:20240104T200000
END:VEVENT
END:VCALENDAR
