BEGIN:VCALENDAR
PRODID:-//eluceo/ical//2.0/EN
VERSION:2.0
CALSCALE:GREGORIAN
BEGIN:VEVENT
UID:31da493c432bbb3ce1fc439317f6ac72
DTSTAMP:20260421T100338Z
SUMMARY:Monthly  Night of Learning--Beth David Beit Midrash
DESCRIPTION:Jewish Federation of Greater Hartford\nCommunity Calendar\nhttp
 s://jewishhartford.org/community-calendar/monthly--night-of-learning--beth
 -david-beit-midrash-1709844992\n\nSelect from variety of workshops related
  to Purim\, Pesach\, Jewish Identity\, and more.\nRegistration at Events -
  Beth David Synagogue (bethdavidwh.org)
DTSTART;TZID=America/New_York:20240319T190000
DTEND;TZID=America/New_York:20240319T210000
END:VEVENT
END:VCALENDAR
