BEGIN:VCALENDAR
PRODID:-//eluceo/ical//2.0/EN
VERSION:2.0
CALSCALE:GREGORIAN
BEGIN:VEVENT
UID:260614d9323e856e765ed02b0bd6521f
DTSTAMP:20260421T100004Z
SUMMARY:Mental Health Webinar: Helping Your Anxious Child
DESCRIPTION:Jewish Federation of Greater Hartford\nCommunity Calendar\nhttp
 s://jewishhartford.org/community-calendar/mental-health-webinar-helping-yo
 ur-anxious-child-1724247527\n\nHelping Your Anxious Child: Empowering Your
  Child with Essential Skills to Manage Anxiety\n\nDr. Regine Galanti is th
 e founder of Long Island Behavioral Psychology\, and specializes in treati
 ng anxiety\, OCD\, and behavior problems using cognitive behavioral therap
 y (CBT). She offers tailored solutions and concrete strategies for childre
 n\, teens\, and adults. Dr. Galanti has published works like Parenting Anx
 ious Kids and Anxiety Relief for Teens and has been featured in The New Yo
 rk Times and Th...
DTSTART;TZID=America/New_York:20240910T190000
DTEND;TZID=America/New_York:20240910T210000
END:VEVENT
END:VCALENDAR
