BEGIN:VCALENDAR
PRODID:-//eluceo/ical//2.0/EN
VERSION:2.0
CALSCALE:GREGORIAN
BEGIN:VEVENT
UID:288dbf84b880201b369f86da7e81c9f5
DTSTAMP:20260424T010635Z
SUMMARY:Martin Luther King Day
DESCRIPTION:Jewish Federation of Greater Hartford\nCommunity Calendar\nhttp
 s://jewishhartford.org/community-calendar/martin-luther-king-day-168797476
 1\n\nJFGH Closed
DTSTART;TZID=America/New_York:20240115T015500
DTEND;TZID=America/New_York:20240115T155000
END:VEVENT
END:VCALENDAR
