BEGIN:VCALENDAR
PRODID:-//eluceo/ical//2.0/EN
VERSION:2.0
CALSCALE:GREGORIAN
BEGIN:VEVENT
UID:465d6a788c91d029cd6dcc090dcf7fd6
DTSTAMP:20260419T174403Z
SUMMARY:Mandell JCC - Board Meeting
DESCRIPTION:Jewish Federation of Greater Hartford\nCommunity Calendar\nhttp
 s://jewishhartford.org/community-calendar/mandell-jcc---board-meeting-1714
 591624\n\nMandell JCC - Board Meeting
DTSTART;TZID=America/New_York:20250423T190000
DTEND;TZID=America/New_York:20250423T210000
END:VEVENT
END:VCALENDAR
