BEGIN:VCALENDAR
PRODID:-//eluceo/ical//2.0/EN
VERSION:2.0
CALSCALE:GREGORIAN
BEGIN:VEVENT
UID:a85143be2146e58ea097d1a96d16f490
DTSTAMP:20260425T195638Z
SUMMARY:Mandell JCC - Board Meeting
DESCRIPTION:Jewish Federation of Greater Hartford\nCommunity Calendar\nhttp
 s://jewishhartford.org/community-calendar/mandell-jcc---board-meeting-1691
 761558\n\nMandell JCC - Board Meeting
DTSTART;TZID=America/New_York:20230927T190000
DTEND;TZID=America/New_York:20230927T210000
END:VEVENT
END:VCALENDAR
