BEGIN:VCALENDAR
PRODID:-//eluceo/ical//2.0/EN
VERSION:2.0
CALSCALE:GREGORIAN
BEGIN:VEVENT
UID:c48353c7b0cfa1381dc0dec28124e48c
DTSTAMP:20260421T193816Z
SUMMARY:Mah Jongg Game Night
DESCRIPTION:Jewish Federation of Greater Hartford\nCommunity Calendar\nhttp
 s://jewishhartford.org/community-calendar/mah-jongg-game-night-1707414165\
 n\nBeth El Temple Women&#39\;s Network invites you to play mah jongg with 
 friends! We welcome all skill levels and even total beginners. Experienced
  players can match themselves up with others of similar skill and we&#39\;
 ll teach those who want to learn. We will provide snacks and drinks. $18/p
 erson\, with registration at tinyurl.com/MahjonggBET.
DTSTART;TZID=America/New_York:20240314T180000
DTEND;TZID=America/New_York:20240314T193000
END:VEVENT
END:VCALENDAR
