BEGIN:VCALENDAR
PRODID:-//eluceo/ical//2.0/EN
VERSION:2.0
CALSCALE:GREGORIAN
BEGIN:VEVENT
UID:98254aecf69cd3a316d569a76d705622
DTSTAMP:20260424T210731Z
SUMMARY:Luncheon with Rabbi Gary Zola\, PhD
DESCRIPTION:Jewish Federation of Greater Hartford\nCommunity Calendar\nhttp
 s://jewishhartford.org/community-calendar/luncheon-with-rabbi-gary-zola-ph
 d-1698086027\n\nJoin us for a delicious lunch and talk by our Scholar in R
 esidence\, Dr. Gary Zola. The cost is $12 per person. The topic is "Beth I
 srael and the Rise of Reform Judaism in the 19th Century". Come and enjoy!
DTSTART;TZID=America/New_York:20231118T123000
DTEND;TZID=America/New_York:20231118T123000
END:VEVENT
END:VCALENDAR
