BEGIN:VCALENDAR
PRODID:-//eluceo/ical//2.0/EN
VERSION:2.0
CALSCALE:GREGORIAN
BEGIN:VEVENT
UID:ff010f3b76020153bf63092c6f2f02e7
DTSTAMP:20260424T203223Z
SUMMARY:Lunch & Learn with Emunah
DESCRIPTION:Jewish Federation of Greater Hartford\nCommunity Calendar\nhttp
 s://jewishhartford.org/community-calendar/lunch-learn-with-emunah\n\nDetai
 l coming soon!\n\nLearn more about Emunah at https://www.emunahafula.org/
 en/
DTSTART;TZID=America/New_York:20230612T120000
DTEND;TZID=America/New_York:20230612T130000
END:VEVENT
END:VCALENDAR
