BEGIN:VCALENDAR
PRODID:-//eluceo/ical//2.0/EN
VERSION:2.0
CALSCALE:GREGORIAN
BEGIN:VEVENT
UID:7c19a01cc3d2a4aad94576c5a8668f48
DTSTAMP:20260420T091919Z
SUMMARY:Living with Intention
DESCRIPTION:Jewish Federation of Greater Hartford\nCommunity Calendar\nhttp
 s://jewishhartford.org/community-calendar/living-with-intention-1686836836
 \n\nSignature Living with Intention Event 
DTSTART;TZID=America/New_York:20240521T173000
DTEND;TZID=America/New_York:20240521T210000
END:VEVENT
END:VCALENDAR
