BEGIN:VCALENDAR
PRODID:-//eluceo/ical//2.0/EN
VERSION:2.0
CALSCALE:GREGORIAN
BEGIN:VEVENT
UID:2066480819fa665da50ed1a9f3d539a9
DTSTAMP:20260425T003335Z
SUMMARY:Lion of Judah Luncheon Celebration
DESCRIPTION:Jewish Federation of Greater Hartford\nCommunity Calendar\nhttp
 s://jewishhartford.org/community-calendar/lion-of-judah-celebration-165661
 7426\n\nLion of Judah gratitude event
DTSTART;TZID=America/New_York:20230601T113000
DTEND;TZID=America/New_York:20230601T140000
END:VEVENT
END:VCALENDAR
