BEGIN:VCALENDAR
PRODID:-//eluceo/ical//2.0/EN
VERSION:2.0
CALSCALE:GREGORIAN
BEGIN:VEVENT
UID:36edafbb4cb1e5af766cc667beeed330
DTSTAMP:20260423T082316Z
SUMMARY:Leave Your Mark on NEJA
DESCRIPTION:Jewish Federation of Greater Hartford\nCommunity Calendar\nhttp
 s://jewishhartford.org/community-calendar/leave-your-mark-on-neja-17056807
 35\n\nPlease join us inside the building expansion for a chance to sign th
 e walls and Leave your mark on NEJA!\nWe look forward to greeting our dono
 rs and showing our appreciation to all the members of our NEJA community.
DTSTART;TZID=America/New_York:20240204T173000
DTEND;TZID=America/New_York:20240204T193000
END:VEVENT
END:VCALENDAR
