BEGIN:VCALENDAR
PRODID:-//eluceo/ical//2.0/EN
VERSION:2.0
CALSCALE:GREGORIAN
BEGIN:VEVENT
UID:8774ccd74da7dfceaf6fc446b59a8ec2
DTSTAMP:20260424T014143Z
SUMMARY:Launch of JLI: The World of Kabbala
DESCRIPTION:Jewish Federation of Greater Hartford\nCommunity Calendar\nhttp
 s://jewishhartford.org/community-calendar/launch-of-jli-the-world-of-kabba
 la-1689270253\n\nThe Jewish learning institute featured fall series\, the 
 world of Kabbalah
DTSTART;TZID=America/New_York:20231106T193000
DTEND;TZID=America/New_York:20231106T210000
END:VEVENT
END:VCALENDAR
