BEGIN:VCALENDAR
PRODID:-//eluceo/ical//2.0/EN
VERSION:2.0
CALSCALE:GREGORIAN
BEGIN:VEVENT
UID:28c578916a416156f5a0bd592bbd2b06
DTSTAMP:20260420T172338Z
SUMMARY:Launch of JLI Course: Nurturing Relationships
DESCRIPTION:Jewish Federation of Greater Hartford\nCommunity Calendar\nhttp
 s://jewishhartford.org/community-calendar/launch-of-jli-course-nurturing-r
 elationships-1719248740\n\nChabad of Greater Hartford course about enrichi
 ng your relationships through ancient Jewish wisdom. \n6 Consecutive class
 es\, starting November 11th 7:30-9:00pm\nLearn more at chabadhartford.com/
 course or email rabbishaya@chabadhartford.com
DTSTART;TZID=America/New_York:20241111T193000
DTEND;TZID=America/New_York:20241111T213000
END:VEVENT
END:VCALENDAR
