BEGIN:VCALENDAR
PRODID:-//eluceo/ical//2.0/EN
VERSION:2.0
CALSCALE:GREGORIAN
BEGIN:VEVENT
UID:37720bff97799f4e632f57c671c2f6fc
DTSTAMP:20260423T132949Z
SUMMARY:Latkes and ReLiSh
DESCRIPTION:Jewish Federation of Greater Hartford\nCommunity Calendar\nhttp
 s://jewishhartford.org/community-calendar/latkes-and-relish-1698944430\n\n
 Celebrate Hanukkah with a free program open to the community. Join us for 
 singing\, dancing\, latkes\, and Hanukkah fun.
DTSTART;TZID=America/New_York:20231210T150000
DTEND;TZID=America/New_York:20231210T163000
END:VEVENT
END:VCALENDAR
