BEGIN:VCALENDAR
PRODID:-//eluceo/ical//2.0/EN
VERSION:2.0
CALSCALE:GREGORIAN
BEGIN:VEVENT
UID:454e1163accdb3124ed5377c93573401
DTSTAMP:20260423T212202Z
SUMMARY:Latkes & Legislation
DESCRIPTION:Jewish Federation of Greater Hartford\nCommunity Calendar\nhttp
 s://jewishhartford.org/community-calendar/latkes--legislation-1692725543\n
 \nLatkes & Legislation at the JCC\, 5:30 pm
DTSTART;TZID=America/New_York:20231214T173000
DTEND;TZID=America/New_York:20231214T183000
END:VEVENT
END:VCALENDAR
