BEGIN:VCALENDAR
PRODID:-//eluceo/ical//2.0/EN
VERSION:2.0
CALSCALE:GREGORIAN
BEGIN:VEVENT
UID:14df0e623353a7b490fbf32074433066
DTSTAMP:20260424T112127Z
SUMMARY:JTCONNECT'S MEGA PUMPKIN PIE BAKE
DESCRIPTION:Jewish Federation of Greater Hartford\nCommunity Calendar\nhttp
 s://jewishhartford.org/community-calendar/jtconnects-mega-pumpkin-pie-bake
 -1689178443\n\nJTCONNECT&#39\;S MEGA PUMPKIN PIE BAKE IS AN ANNUAL EVENT T
 HAT BRINGS UPWARDS OF 100 STUDENTS TOGETHER TO BAKE AND DONATED PUMPKIN PI
 ES TO LOCAL NONPROFIT ORGANIZATIONS. THESE PIES GO DIRECTLY TO INDIVIDUALS
  EXPERIENCE HUNGER OR FOOD INSECURITY\, AND THIS EVENT IS A TON OF FUN FOR
  A GREAT CAUSE!
DTSTART;TZID=America/New_York:20231119T110000
DTEND;TZID=America/New_York:20231119T140000
END:VEVENT
END:VCALENDAR
