BEGIN:VCALENDAR
PRODID:-//eluceo/ical//2.0/EN
VERSION:2.0
CALSCALE:GREGORIAN
BEGIN:VEVENT
UID:01eab53c61f3077a6f73cf577b395f82
DTSTAMP:20260423T083038Z
SUMMARY:JTCONNECT HANUKKAH PARTY
DESCRIPTION:Jewish Federation of Greater Hartford\nCommunity Calendar\nhttp
 s://jewishhartford.org/community-calendar/jtconnect-hanukkah-party-1689178
 757\n\nJTCONNECT&#39\;S ANNUAL HANUKKAH PARTY IS ALWAYS A BLAST\, AND ALWA
 YS FULL OF FUN ACTIVITIES AND GREAT FOOD FOR TEENS THROUGHOUT THE COMMUNIT
 Y TO ENJOY! JOIN US!
DTSTART;TZID=America/New_York:20231211T170000
DTEND;TZID=America/New_York:20231211T190000
END:VEVENT
END:VCALENDAR
