BEGIN:VCALENDAR
PRODID:-//eluceo/ical//2.0/EN
VERSION:2.0
CALSCALE:GREGORIAN
BEGIN:VEVENT
UID:fa8589a67ce938f2cf4a175649c03711
DTSTAMP:20260421T161423Z
SUMMARY:JTConnect Board Meeting
DESCRIPTION:Jewish Federation of Greater Hartford\nCommunity Calendar\nhttp
 s://jewishhartford.org/community-calendar/jtconnect-board-meeting-16884757
 75\n\nBoard of Directors meeting for JTConnect program
DTSTART;TZID=America/New_York:20240321T190000
DTEND;TZID=America/New_York:20240321T210000
END:VEVENT
END:VCALENDAR
