BEGIN:VCALENDAR
PRODID:-//eluceo/ical//2.0/EN
VERSION:2.0
CALSCALE:GREGORIAN
BEGIN:VEVENT
UID:6182cca1aa1b1eb28cd026619d67d274
DTSTAMP:20260421T230017Z
SUMMARY:JTConnect Board Meeting
DESCRIPTION:Jewish Federation of Greater Hartford\nCommunity Calendar\nhttp
 s://jewishhartford.org/community-calendar/jtconnect-board-meeting-16884756
 64\n\nBoard of Directors meeting for JTConnect program
DTSTART;TZID=America/New_York:20240222T190000
DTEND;TZID=America/New_York:20240222T210000
END:VEVENT
END:VCALENDAR
