BEGIN:VCALENDAR
PRODID:-//eluceo/ical//2.0/EN
VERSION:2.0
CALSCALE:GREGORIAN
BEGIN:VEVENT
UID:450f40214e1d3390b7d62945a04be11a
DTSTAMP:20260423T045039Z
SUMMARY:JTConnect Board Meeting
DESCRIPTION:Jewish Federation of Greater Hartford\nCommunity Calendar\nhttp
 s://jewishhartford.org/community-calendar/jtconnect-board-meeting-16884755
 82\n\nBoard of Directors meeting for JTConnect program
DTSTART;TZID=America/New_York:20240118T190000
DTEND;TZID=America/New_York:20240118T210000
END:VEVENT
END:VCALENDAR
