BEGIN:VCALENDAR
PRODID:-//eluceo/ical//2.0/EN
VERSION:2.0
CALSCALE:GREGORIAN
BEGIN:VEVENT
UID:8620496ebdb3de57ab0624dbd3951435
DTSTAMP:20260423T182003Z
SUMMARY:JTConnect Board Meeting
DESCRIPTION:Jewish Federation of Greater Hartford\nCommunity Calendar\nhttp
 s://jewishhartford.org/community-calendar/jtconnect-board-meeting-16884752
 09\n\nBoard of Directors meeting for JTConnect program
DTSTART;TZID=America/New_York:20231019T190000
DTEND;TZID=America/New_York:20231019T210000
END:VEVENT
END:VCALENDAR
