BEGIN:VCALENDAR
PRODID:-//eluceo/ical//2.0/EN
VERSION:2.0
CALSCALE:GREGORIAN
BEGIN:VEVENT
UID:4738ac81c2c9967b2f8647013ebfc425
DTSTAMP:20260424T010638Z
SUMMARY:JTConnect Board Meeting
DESCRIPTION:Jewish Federation of Greater Hartford\nCommunity Calendar\nhttp
 s://jewishhartford.org/community-calendar/jtconnect-board-meeting-16884751
 00\n\nBoard of Directors meeting for JTConnect program
DTSTART;TZID=America/New_York:20230921T190000
DTEND;TZID=America/New_York:20230921T210000
END:VEVENT
END:VCALENDAR
