BEGIN:VCALENDAR
PRODID:-//eluceo/ical//2.0/EN
VERSION:2.0
CALSCALE:GREGORIAN
BEGIN:VEVENT
UID:c7147060da4188b6785dde53b019618e
DTSTAMP:20260419T124832Z
SUMMARY:Journey and Joy on Sukkot: A Hands-On Workshop
DESCRIPTION:Jewish Federation of Greater Hartford\nCommunity Calendar\nhttp
 s://jewishhartford.org/community-calendar/journey-and-joy-on-sukkot-a-hand
 s-on-workshop-1725905290\n\nJoin us in the Sukkah in the JCC Courtyard* fo
 r a special workshop led by Debra Cantor\, Rabbi of B'nai Tikvoh-Sholom\, 
 and Certified Facilitator of the Jewish Studio Process. Through text study
 \, reflection\, and art-making\, we'll explore the themes of pilgrimage\, 
 fragility\, and joy.  The program will also include traditional blessings 
 and a snack. People of all faiths are welcome!\n\n*Weather permitting\; if
  necessary\, we will move inside the JCC.
DTSTART;TZID=America/New_York:20241022T180000
DTEND;TZID=America/New_York:20241022T193000
END:VEVENT
END:VCALENDAR
