BEGIN:VCALENDAR
PRODID:-//eluceo/ical//2.0/EN
VERSION:2.0
CALSCALE:GREGORIAN
BEGIN:VEVENT
UID:b1fd12a8ec2f3095c0fe8a2428cd2fd9
DTSTAMP:20260424T065042Z
SUMMARY:JLA's Presidents' Circle
DESCRIPTION:Jewish Federation of Greater Hartford\nCommunity Calendar\nhttp
 s://jewishhartford.org/community-calendar/jlas-presidents-circle-168563055
 2\n\nPresidents and chairs of area synagogue and Jewish agency boards are 
 welcome to join us for a light dinner\, networking\, and professional deve
 lopment.
DTSTART;TZID=America/New_York:20231018T180000
DTEND;TZID=America/New_York:20231018T200000
END:VEVENT
END:VCALENDAR
