BEGIN:VCALENDAR
PRODID:-//eluceo/ical//2.0/EN
VERSION:2.0
CALSCALE:GREGORIAN
BEGIN:VEVENT
UID:93ca3275d419543bceadc3d93f978725
DTSTAMP:20260422T044103Z
SUMMARY:JLA Advisory Board meeting
DESCRIPTION:Jewish Federation of Greater Hartford\nCommunity Calendar\nhttp
 s://jewishhartford.org/community-calendar/jla-advisory-board-meeting-16927
 26267\n\nJLA Advisory Board meeting
DTSTART;TZID=America/New_York:20240326T173000
DTEND;TZID=America/New_York:20240326T193000
END:VEVENT
END:VCALENDAR
