BEGIN:VCALENDAR
PRODID:-//eluceo/ical//2.0/EN
VERSION:2.0
CALSCALE:GREGORIAN
BEGIN:VEVENT
UID:bc359cad83eff5c71e02883bd5845600
DTSTAMP:20260424T154904Z
SUMMARY:JLA Advisory Board meeting
DESCRIPTION:Jewish Federation of Greater Hartford\nCommunity Calendar\nhttp
 s://jewishhartford.org/community-calendar/jla-advisory-board-meeting-16927
 25900\n\nJLA Advisory Board Meeting
DTSTART;TZID=America/New_York:20231011T173000
DTEND;TZID=America/New_York:20231011T193000
END:VEVENT
END:VCALENDAR
